BEGIN:VCALENDAR
VERSION:2.0
PRODID:-//wp-events-plugin.com//7.2.3.1//EN
BEGIN:VEVENT
UID:1274@stpetersbirstall.co.uk
DTSTART:20240804T090000Z
DTEND:20240804T100000Z
DTSTAMP:20240810T190416Z
URL:https://stpetersbirstall.co.uk/events/traditional-service-with-holy-co
 mmunion-2-2024-08-04/
SUMMARY:Traditional Service with Holy Communion
DESCRIPTION:Please join us in church at 9AM each Sunday for our traditional
  service.\n\nOur traditional service includes hymns\, a sermon\, and we sh
 are in communion on the weks whn our vicar Jess is with us. We also have a
  more contemporary service involving modern worship songs at 10:30AM every
  week. Read more about these services on our 'Services' page.\n\nPlease re
 member you can continue donate to support the mission\, ministry and maint
 enance of the church. Every donation helps to to continue the work that th
 e church has been doing in Birstall for over 900 years. You can find out m
 ore about how to donate on our 'Donate' page.
CATEGORIES:Services,Traditional
LOCATION:St Peters Church\, Birstall\, Kirkgate\, Birstall\, Batley\, West 
 Yorkshire\, WF17 9PB\, United Kingdom
GEO:53.731175;-1.670661
X-APPLE-STRUCTURED-LOCATION;VALUE=URI;X-ADDRESS=Kirkgate\, Birstall\, Batle
 y\, West Yorkshire\, WF17 9PB\, United Kingdom;X-APPLE-RADIUS=100;X-TITLE=
 St Peters Church\, Birstall:geo:53.731175,-1.670661
END:VEVENT
END:VCALENDAR