BEGIN:VCALENDAR
VERSION:2.0
PRODID:-//wp-events-plugin.com//7.2.3.1//EN
BEGIN:VEVENT
UID:1697@stpetersbirstall.co.uk
DTSTART:20250621T100000Z
DTEND:20250621T140000Z
DTSTAMP:20250519T184804Z
URL:https://stpetersbirstall.co.uk/events/summer-fair-2025/
SUMMARY:Summer Fair
DESCRIPTION:\n\nOur popular Summer Fair is back again this year\, with all 
 the stalls and activities you love. There'll be new-to-you bargains\, deli
 cious treats\, activities and games - plus we hope to have donkey rides!\n
 \nIf you're looking for something to do with your children or grandchildre
 n on Saturday 21st June\, then we would love to welcome you to St Peter's 
 church. It's worth visiting for the 900 years of history\, beautiful stone
 work\, and stunning mural above the main arch. Plus you can see our beehiv
 es\, and maybe learn a little bit about how honey is made.\n\nEveryone is 
 very welcome\, especially children\, it is free entry and there will be lu
 nch items as well as cakes etc for sale. See you there!
CATEGORIES:Community
LOCATION:St Peters Church\, Birstall\, Kirkgate\, Birstall\, Batley\, West 
 Yorkshire\, WF17 9PB\, United Kingdom
GEO:53.731175;-1.670661
X-APPLE-STRUCTURED-LOCATION;VALUE=URI;X-ADDRESS=Kirkgate\, Birstall\, Batle
 y\, West Yorkshire\, WF17 9PB\, United Kingdom;X-APPLE-RADIUS=100;X-TITLE=
 St Peters Church\, Birstall:geo:53.731175,-1.670661
END:VEVENT
END:VCALENDAR