BEGIN:VCALENDAR
VERSION:2.0
PRODID:-//wp-events-plugin.com//7.2.3.1//EN
BEGIN:VEVENT
UID:1772@stpetersbirstall.co.uk
DTSTART:20251109T140000Z
DTEND:20251109T170000Z
DTSTAMP:20251004T200937Z
URL:https://stpetersbirstall.co.uk/events/remembrance-day-2025/
SUMMARY:Remembrance Day
DESCRIPTION:Join with us and representatives of local organisations for thi
 s special Remembrance Day service.
CATEGORIES:Community,Traditional
LOCATION:St Peters Church\, Birstall\, Kirkgate\, Birstall\, Batley\, West 
 Yorkshire\, WF17 9PB\, United Kingdom
GEO:53.731175;-1.670661
X-APPLE-STRUCTURED-LOCATION;VALUE=URI;X-ADDRESS=Kirkgate\, Birstall\, Batle
 y\, West Yorkshire\, WF17 9PB\, United Kingdom;X-APPLE-RADIUS=100;X-TITLE=
 St Peters Church\, Birstall:geo:53.731175,-1.670661
END:VEVENT
END:VCALENDAR