BEGIN:VCALENDAR
VERSION:2.0
PRODID:-//wp-events-plugin.com//7.2.3.1//EN
BEGIN:VEVENT
UID:541@stpetersbirstall.co.uk
DTSTART:20211117T100000Z
DTEND:20211117T110000Z
DTSTAMP:20211114T130440Z
URL:https://stpetersbirstall.co.uk/events/midweek-communion-service-2021-1
 1-17/
SUMMARY:Midweek Communion Service - Cancelled this week
DESCRIPTION:Due to unforseen circumstances we will not be holding our midwe
 ek communion service on the 17th November. Please join us next week on the
  24th November. Thank you.\n\nPlease join us in church at 10AM each Wednes
 day morning for a short traditional worship service. We have prepared the 
 church to make it safe for visitors during the COVID-19 pandemic\, so plea
 se bring a mask which you must wear while in the building.\n\nOur traditio
 nal service includes hymns\, a sermon\, and we share in communion. We also
  alternate between traditional and contemporary services each Sunday. Read
  more about these services on our 'Services' page.\n\nPlease remember you 
 can continue donate to support the mission\, ministry and maintenance of t
 he church. Every donation helps to to continue the work that the church ha
 s been doing in Birstall for over 900 years. You can find out more about h
 ow to donate on our 'Donate' page.
CATEGORIES:Midweek,Services
LOCATION:St Peters Church\, Birstall\, Kirkgate\, Birstall\, Batley\, West 
 Yorkshire\, WF17 9PB\, United Kingdom
GEO:53.731175;-1.670661
X-APPLE-STRUCTURED-LOCATION;VALUE=URI;X-ADDRESS=Kirkgate\, Birstall\, Batle
 y\, West Yorkshire\, WF17 9PB\, United Kingdom;X-APPLE-RADIUS=100;X-TITLE=
 St Peters Church\, Birstall:geo:53.731175,-1.670661
END:VEVENT
END:VCALENDAR