BEGIN:VCALENDAR
VERSION:2.0
PRODID:-//wp-events-plugin.com//7.2.3.1//EN
BEGIN:VEVENT
UID:1444@stpetersbirstall.co.uk
DTSTART:20250608T180000Z
DTEND:20250608T193000Z
DTSTAMP:20250519T100651Z
URL:https://stpetersbirstall.co.uk/events/immerse-contemporary-worship-jun
 e-2025/
SUMMARY:Immerse - contemporary worship evening
DESCRIPTION:We are very excited to be hosting the first of a series of cont
 emporary worship evenings on the 8th June - Pentecost Sunday. Several loca
 l churches are involved\, and future events (which will be advertised onli
 ne) will be held at different churches.\n\nWith music led by our live band
  you can expect joyous upbeat praise\, songs of deep worship\, and the opp
 ortunity to receive prayer. We'll also be welcoming Beth Burbidge\, associ
 ate leader at St Peters Morley\, who will be giving a talk.\n\n\n\nRefresh
 ments will be served\, and all are welcome! We would love you to join us a
 s we seek the presence of God together.
ATTACH;FMTTYPE=image/jpeg:https://stpetersbirstall.co.uk/wp-content/upload
 s/2025/05/immerse-medium.jpg
CATEGORIES:Modern,Services
LOCATION:St Peters Church\, Birstall\, Kirkgate\, Birstall\, Batley\, West 
 Yorkshire\, WF17 9PB\, United Kingdom
GEO:53.731175;-1.670661
X-APPLE-STRUCTURED-LOCATION;VALUE=URI;X-ADDRESS=Kirkgate\, Birstall\, Batle
 y\, West Yorkshire\, WF17 9PB\, United Kingdom;X-APPLE-RADIUS=100;X-TITLE=
 St Peters Church\, Birstall:geo:53.731175,-1.670661
END:VEVENT
END:VCALENDAR