BEGIN:VCALENDAR
VERSION:2.0
PRODID:-//wp-events-plugin.com//7.2.3.1//EN
BEGIN:VEVENT
UID:1443@stpetersbirstall.co.uk
DTSTART:20241207T140000Z
DTEND:20241207T150000Z
DTSTAMP:20241202T101207Z
URL:https://stpetersbirstall.co.uk/events/festive-afternoon-tea-2024/
SUMMARY:Festive Afternoon Tea
DESCRIPTION:\nJoin us for Afternoon Tea in our beautiful ancient church. En
 joy a selection of sandwiches\, savouries and sweet treats with a festive 
 twist.\n\nTables at 2.0pm\, 2.30pm Tickets £10 per person\, and must be p
 urchased in advance.\nContact : tickets@stpetersbirstall.co.uk\n\nThe perf
 ect opportunity to catch up with friends or family during the Christmas pe
 riod. You could even gift it as an early festive treat!
CATEGORIES:Christmas
LOCATION:St Peters Church\, Birstall\, Kirkgate\, Birstall\, Batley\, West 
 Yorkshire\, WF17 9PB\, United Kingdom
GEO:53.731175;-1.670661
X-APPLE-STRUCTURED-LOCATION;VALUE=URI;X-ADDRESS=Kirkgate\, Birstall\, Batle
 y\, West Yorkshire\, WF17 9PB\, United Kingdom;X-APPLE-RADIUS=100;X-TITLE=
 St Peters Church\, Birstall:geo:53.731175,-1.670661
END:VEVENT
END:VCALENDAR