BEGIN:VCALENDAR
VERSION:2.0
PRODID:-//wp-events-plugin.com//7.2.3.1//EN
BEGIN:VEVENT
UID:1780@stpetersbirstall.co.uk
DTSTART:20251224T160000Z
DTEND:20251224T170000Z
DTSTAMP:20251117T215847Z
URL:https://stpetersbirstall.co.uk/events/crib-service-2025/
SUMMARY:Crib Service
DESCRIPTION:Join us on Christmas Eve for this family-friendly service\, whe
 re we'll be preparing for Christmas Day by learning what it's all about. G
 et dressed up in your best Christmas jumper\, you can even come as a reind
 eer or an elf or Santa himself! We'd also love for you to stay and share s
 ome festive refreshments with us after the service.\n\n
CATEGORIES:Christmas,Family,Services
LOCATION:St Peters Church\, Birstall\, Kirkgate\, Birstall\, Batley\, West 
 Yorkshire\, WF17 9PB\, United Kingdom
GEO:53.731175;-1.670661
X-APPLE-STRUCTURED-LOCATION;VALUE=URI;X-ADDRESS=Kirkgate\, Birstall\, Batle
 y\, West Yorkshire\, WF17 9PB\, United Kingdom;X-APPLE-RADIUS=100;X-TITLE=
 St Peters Church\, Birstall:geo:53.731175,-1.670661
END:VEVENT
END:VCALENDAR