BEGIN:VCALENDAR
VERSION:2.0
PRODID:-//wp-events-plugin.com//7.2.3.1//EN
BEGIN:VEVENT
UID:1384@stpetersbirstall.co.uk
DTSTART:20240901T183000Z
DTEND:20240901T203000Z
DTSTAMP:20240810T211622Z
URL:https://stpetersbirstall.co.uk/events/creation-2024-coasts/
SUMMARY:Creation: Coasts
DESCRIPTION:Join us for our first in a series of evenings looking at the wo
 nder of creation. Our first event is looking at coasts. Expect to watch a 
 short film\, participate in some fantastic chat\, and enjoy some shared fo
 od.\n\nEveryone is welcome\, although children must be accompanied. Please
  bring something to eat\, and some food to share. For more details contact
  stpetersecochurch@gmail.com.\n\n"God saw that the world was good"\n\n\n	1
 st September 2024: Coasts\n	15th September 2024: Sky\n	29th September 2024
 : Trees\n	13th September 2024: Life\n\n\n\n
ATTACH;FMTTYPE=image/jpeg:https://stpetersbirstall.co.uk/wp-content/upload
 s/2024/08/20210717_202728-scaled.jpg
CATEGORIES:Eco Church
LOCATION:St Saviours\, Brownhill\, Church Road\, Brownhill\, Birstall\, Bat
 ley\, West Yorkshire\, WF17 0BU\, United Kingdom
GEO:53.728538;-1.65664
X-APPLE-STRUCTURED-LOCATION;VALUE=URI;X-ADDRESS=Church Road\, Brownhill\, B
 irstall\, Batley\, West Yorkshire\, WF17 0BU\, United Kingdom;X-APPLE-RADI
 US=100;X-TITLE=St Saviours\, Brownhill:geo:53.728538,-1.65664
END:VEVENT
END:VCALENDAR