BEGIN:VCALENDAR
VERSION:2.0
PRODID:-//wp-events-plugin.com//7.2.3.1//EN
BEGIN:VEVENT
UID:1773@stpetersbirstall.co.uk
DTSTART:20251122T100000Z
DTEND:20251122T140000Z
DTSTAMP:20251117T221126Z
URL:https://stpetersbirstall.co.uk/events/christmas-fair-2025/
SUMMARY:Christmas Fair
DESCRIPTION:We're getting ready for Christmas\, and holding our popular Chr
 istmas Fair on Saturday the 22nd November. From 10AM to 2PM the church wil
 l be open and we'll have something for everyone!\n\n 	'New to you' stalls\
 n 	Arts and crafts\n 	Toys and games\n 	Raffle and tombola\n 	A fun Elfy S
 elfy booth\n 	Our fantastic cafe offering a range of food and drink\n\nAnd
  ... Santa himself will be there! It's free entry\, everyone is welcome!\n
 \n\n\n
CATEGORIES:Christmas,Community
LOCATION:St Peters Church\, Birstall\, Kirkgate\, Birstall\, Batley\, West 
 Yorkshire\, WF17 9PB\, United Kingdom
GEO:53.731175;-1.670661
X-APPLE-STRUCTURED-LOCATION;VALUE=URI;X-ADDRESS=Kirkgate\, Birstall\, Batle
 y\, West Yorkshire\, WF17 9PB\, United Kingdom;X-APPLE-RADIUS=100;X-TITLE=
 St Peters Church\, Birstall:geo:53.731175,-1.670661
END:VEVENT
END:VCALENDAR