BEGIN:VCALENDAR
VERSION:2.0
PRODID:-//wp-events-plugin.com//7.2.3.1//EN
BEGIN:VEVENT
UID:1434@stpetersbirstall.co.uk
DTSTART:20241123T110000Z
DTEND:20241123T140000Z
DTSTAMP:20241104T174354Z
URL:https://stpetersbirstall.co.uk/events/christmas-fair-2024/
SUMMARY:Christmas Fair
DESCRIPTION:Join us at our Christmas Fair on Saturday the 23rd November\, d
 oors open at 11AM.\n\nThere'll be loads of stalls for you to browse\, feat
 uring handmade gifts 🎁 as well as new-to-you bargains. Get some lunch i
 n our cafe\, and stock up on homemade treats 🍰 (go on\, it's Christmas!
 )\n\nSanta himself 🎅 will be there in his grotto\, plus there'll be all
  the festive games you love wth lots of chances to win prizes 🥇. It's f
 ree entry\, we'd love to see you there.\n\n
CATEGORIES:Christmas
LOCATION:St Peters Church\, Birstall\, Kirkgate\, Birstall\, Batley\, West 
 Yorkshire\, WF17 9PB\, United Kingdom
GEO:53.731175;-1.670661
X-APPLE-STRUCTURED-LOCATION;VALUE=URI;X-ADDRESS=Kirkgate\, Birstall\, Batle
 y\, West Yorkshire\, WF17 9PB\, United Kingdom;X-APPLE-RADIUS=100;X-TITLE=
 St Peters Church\, Birstall:geo:53.731175,-1.670661
END:VEVENT
END:VCALENDAR