BEGIN:VCALENDAR
VERSION:2.0
PRODID:-//wp-events-plugin.com//7.2.3.1//EN
BEGIN:VEVENT
UID:1054@stpetersbirstall.co.uk
DTSTART:20231224T233000Z
DTEND:20231225T003000Z
DTSTAMP:20231201T205631Z
URL:https://stpetersbirstall.co.uk/events/christmas-eve-midnight-communion
 -2023/
SUMMARY:Christmas Eve Midnight Communion
DESCRIPTION:When all the children are ‘tucked up’ the church marks the 
 beginning of Christmas Day with a Midnight Communion – which begins at 1
 1.30pm. In a tradition that goes back centuries we celebrate the birth of 
 Christ by remembering his death and resurrection. This service is held in 
 seasonal candle-light.
CATEGORIES:Christmas,Traditional
LOCATION:St Peters Church\, Birstall\, Kirkgate\, Birstall\, Batley\, West 
 Yorkshire\, WF17 9PB\, United Kingdom
GEO:53.731175;-1.670661
X-APPLE-STRUCTURED-LOCATION;VALUE=URI;X-ADDRESS=Kirkgate\, Birstall\, Batle
 y\, West Yorkshire\, WF17 9PB\, United Kingdom;X-APPLE-RADIUS=100;X-TITLE=
 St Peters Church\, Birstall:geo:53.731175,-1.670661
END:VEVENT
END:VCALENDAR