BEGIN:VCALENDAR
VERSION:2.0
PRODID:-//wp-events-plugin.com//7.2.3.1//EN
BEGIN:VEVENT
UID:1053@stpetersbirstall.co.uk
DTSTART:20231224T160000Z
DTEND:20231224T170000Z
DTSTAMP:20231201T205531Z
URL:https://stpetersbirstall.co.uk/events/christmas-eve-crib-service-2023/
SUMMARY:Christmas Eve Crib Service
DESCRIPTION:On Christmas Eve at 4pm\, when the shopping is completed\, we w
 ill gather for our Crib Service. This service for all children under the a
 ge of 100\, helps us to celebrate the birth of Jesus. Children stand aroun
 d the Nativity Stable to sing ‘Away in a manger’ before going home to 
 get to bed early – hopefully. Watch out for the snow\, which is a tradit
 ional feature on this occasion.
CATEGORIES:Christmas,Family,Modern
LOCATION:St Peters Church\, Birstall\, Kirkgate\, Birstall\, Batley\, West 
 Yorkshire\, WF17 9PB\, United Kingdom
GEO:53.731175;-1.670661
X-APPLE-STRUCTURED-LOCATION;VALUE=URI;X-ADDRESS=Kirkgate\, Birstall\, Batle
 y\, West Yorkshire\, WF17 9PB\, United Kingdom;X-APPLE-RADIUS=100;X-TITLE=
 St Peters Church\, Birstall:geo:53.731175,-1.670661
END:VEVENT
END:VCALENDAR