BEGIN:VCALENDAR
VERSION:2.0
PRODID:-//wp-events-plugin.com//7.2.3.1//EN
BEGIN:VEVENT
UID:1783@stpetersbirstall.co.uk
DTSTART:20251206T140000Z
DTEND:20251206T160000Z
DTSTAMP:20251121T152021Z
URL:https://stpetersbirstall.co.uk/events/christmas-creative-church-2025/
SUMMARY:Christmas Creative Church
DESCRIPTION:Come and join us on Saturday 6th December at 2pm for an excitin
 g afternoon of fun and food. This is a special Christmas themed creative c
 hurch\, and families with small chldren will love it!
CATEGORIES:Christmas,Family,Messy Church,Services
LOCATION:St Peters Church\, Birstall\, Kirkgate\, Birstall\, Batley\, West 
 Yorkshire\, WF17 9PB\, United Kingdom
GEO:53.731175;-1.670661
X-APPLE-STRUCTURED-LOCATION;VALUE=URI;X-ADDRESS=Kirkgate\, Birstall\, Batle
 y\, West Yorkshire\, WF17 9PB\, United Kingdom;X-APPLE-RADIUS=100;X-TITLE=
 St Peters Church\, Birstall:geo:53.731175,-1.670661
END:VEVENT
END:VCALENDAR