BEGIN:VCALENDAR
VERSION:2.0
PRODID:-//wp-events-plugin.com//7.2.3.1//EN
BEGIN:VEVENT
UID:1774@stpetersbirstall.co.uk
DTSTART:20251130T160000Z
DTEND:20251130T173000Z
DTSTAMP:20251117T221315Z
URL:https://stpetersbirstall.co.uk/events/christingle-2025/
SUMMARY:Christingle
DESCRIPTION:Christmas season doesn't start properly until the Christingle s
 ervice! Join us for this special family-friendly service where we think ab
 out the real reason for the season. We also raise funds for the Children's
  Society\, who do life-changing work with children and young people.\n\n&n
 bsp\;\n\n
CATEGORIES:Christmas,Family,Services
LOCATION:St Peters Church\, Birstall\, Kirkgate\, Birstall\, Batley\, West 
 Yorkshire\, WF17 9PB\, United Kingdom
GEO:53.731175;-1.670661
X-APPLE-STRUCTURED-LOCATION;VALUE=URI;X-ADDRESS=Kirkgate\, Birstall\, Batle
 y\, West Yorkshire\, WF17 9PB\, United Kingdom;X-APPLE-RADIUS=100;X-TITLE=
 St Peters Church\, Birstall:geo:53.731175,-1.670661
END:VEVENT
END:VCALENDAR