BEGIN:VCALENDAR
VERSION:2.0
PRODID:-//wp-events-plugin.com//7.2.3.1//EN
BEGIN:VEVENT
UID:1051@stpetersbirstall.co.uk
DTSTART:20231203T160000Z
DTEND:20231203T170000Z
DTSTAMP:20231201T205510Z
URL:https://stpetersbirstall.co.uk/events/christingle-2023/
SUMMARY:Christingle
DESCRIPTION:Christmas kicks off with a Christingle Service at 4pm on Sunday
  3rd December. This lovely service has it’s origins in Moravia and at it
 ’s centre is the giving of Christingles to all the children. The Christi
 ngle (an orange wrapped around with a red ribbon and topped with a candle 
 and fruit and nuts (or sweets) on sticks\, symbolises the world\, the love
  of Christ\, who is the Light of the World\, and the fruit of the earth. I
 t’s a magical way to start the season.
CATEGORIES:Christmas,Family,Modern
LOCATION:St Peters Church\, Birstall\, Kirkgate\, Birstall\, Batley\, West 
 Yorkshire\, WF17 9PB\, United Kingdom
GEO:53.731175;-1.670661
X-APPLE-STRUCTURED-LOCATION;VALUE=URI;X-ADDRESS=Kirkgate\, Birstall\, Batle
 y\, West Yorkshire\, WF17 9PB\, United Kingdom;X-APPLE-RADIUS=100;X-TITLE=
 St Peters Church\, Birstall:geo:53.731175,-1.670661
END:VEVENT
END:VCALENDAR