BEGIN:VCALENDAR
VERSION:2.0
PRODID:-//wp-events-plugin.com//7.2.3.1//EN
BEGIN:VEVENT
UID:1437@stpetersbirstall.co.uk
DTSTART:20241215T160000Z
DTEND:20241215T170000Z
DTSTAMP:20241118T100248Z
URL:https://stpetersbirstall.co.uk/events/carols-by-candlelight-2024/
SUMMARY:Carols by Candlelight
DESCRIPTION:For this special yearly service we light our ancient church wit
 h candles - creating a beautiful and truly festive atmosphere. We'd like t
 o invite you to join us for this traditional service\, we'll be serving re
 freshments aftewards.\n\n
CATEGORIES:Christmas,Services,Traditional
LOCATION:St Peters Church\, Birstall\, Kirkgate\, Birstall\, Batley\, West 
 Yorkshire\, WF17 9PB\, United Kingdom
GEO:53.731175;-1.670661
X-APPLE-STRUCTURED-LOCATION;VALUE=URI;X-ADDRESS=Kirkgate\, Birstall\, Batle
 y\, West Yorkshire\, WF17 9PB\, United Kingdom;X-APPLE-RADIUS=100;X-TITLE=
 St Peters Church\, Birstall:geo:53.731175,-1.670661
END:VEVENT
END:VCALENDAR