BEGIN:VCALENDAR
VERSION:2.0
PRODID:-//wp-events-plugin.com//7.2.3.1//EN
BEGIN:VEVENT
UID:572@stpetersbirstall.co.uk
DTSTART:20211219T160000Z
DTEND:20211219T170000Z
DTSTAMP:20211130T102229Z
URL:https://stpetersbirstall.co.uk/events/carols-by-candlelight-2021/
SUMMARY:Carols by Candlelight
DESCRIPTION:After we had to miss out on this special service last year\, we
  are very pleased that we will again be holding our popular Carols by Cand
 lelight service on the 19th December. This beautiful event sees the church
  lit by candles\, creating a magical atmosphere for young and old alike.\n
 \nWe'll be singing traditional carols accompanied by live musicians\, and 
 this service will really make you feel like proper Christmas has arrived.
CATEGORIES:Christmas,Services
LOCATION:St Peters Church\, Birstall\, Kirkgate\, Birstall\, Batley\, West 
 Yorkshire\, WF17 9PB\, United Kingdom
GEO:53.731175;-1.670661
X-APPLE-STRUCTURED-LOCATION;VALUE=URI;X-ADDRESS=Kirkgate\, Birstall\, Batle
 y\, West Yorkshire\, WF17 9PB\, United Kingdom;X-APPLE-RADIUS=100;X-TITLE=
 St Peters Church\, Birstall:geo:53.731175,-1.670661
END:VEVENT
END:VCALENDAR