BEGIN:VCALENDAR
VERSION:2.0
PRODID:-//wp-events-plugin.com//7.2.3.1//EN
BEGIN:VEVENT
UID:1775@stpetersbirstall.co.uk
DTSTART:20251211T100000Z
DTEND:20251211T110000Z
DTSTAMP:20251117T182145Z
URL:https://stpetersbirstall.co.uk/events/carol-singing-in-birstall-market
 -place-2025/
SUMMARY:Carol Singing in Birstall Market Place
DESCRIPTION:Christmas wouldn't be Christmas without singing carols! Join us
  on Thursday 11th December at 10:00am in Birstall Market Place to sing som
 e of your favourite carols\, as part of this Churches Together in Birstall
  event.
CATEGORIES:Christmas,Community
LOCATION:Market Place\, Market Place\, Birstall\, Batley\, United Kingdom
GEO:53.731959;-1.660298
X-APPLE-STRUCTURED-LOCATION;VALUE=URI;X-ADDRESS=Market Place\, Birstall\, B
 atley\, United Kingdom;X-APPLE-RADIUS=100;X-TITLE=Market Place:geo:53.7319
 59,-1.660298
END:VEVENT
END:VCALENDAR