BEGIN:VCALENDAR
VERSION:2.0
PRODID:-//wp-events-plugin.com//7.2.3.1//EN
BEGIN:VEVENT
UID:1442@stpetersbirstall.co.uk
DTSTART:20241219T103000Z
DTEND:20241219T111500Z
DTSTAMP:20241202T100813Z
URL:https://stpetersbirstall.co.uk/events/carol-singing-in-birstall-market
 -place-2024/
SUMMARY:Carol Singing in Birstall Market Place
DESCRIPTION:\n\nChristmas wouldn't be Christmas without singing carols! Joi
 n us on Thursday 19th December at 10:30am in Birstall Market Place to sing
  some of your favourite carols\, as part of this Churches Together in Birs
 tall event.
CATEGORIES:Christmas,Community
LOCATION:Market Place\, Market Place\, Birstall\, Batley\, United Kingdom
GEO:53.731959;-1.660298
X-APPLE-STRUCTURED-LOCATION;VALUE=URI;X-ADDRESS=Market Place\, Birstall\, B
 atley\, United Kingdom;X-APPLE-RADIUS=100;X-TITLE=Market Place:geo:53.7319
 59,-1.660298
END:VEVENT
END:VCALENDAR