BEGIN:VCALENDAR
VERSION:2.0
PRODID:-//wp-events-plugin.com//7.2.3.1//EN
BEGIN:VEVENT
UID:1776@stpetersbirstall.co.uk
DTSTART:20251213T143000Z
DTEND:20251213T153000Z
DTSTAMP:20251117T182332Z
URL:https://stpetersbirstall.co.uk/events/carol-singing-at-junction-27-202
 5/
SUMMARY:Carol Singing at Junction 27
DESCRIPTION:Christmas wouldn't be Christmas without singing carols! Join us
  on Saturday 13th December at 2:30pm outside Boots at Junction 27 retail p
 ark to sing some of your favourite carols\, as part of this Churches Toget
 her in Birstall event. 
CATEGORIES:Christmas,Community
LOCATION:Junction 27\, Junction 27 Retail Park\, Birstall\, Batley\, United
  Kingdom
GEO:53.745615;-1.645739
X-APPLE-STRUCTURED-LOCATION;VALUE=URI;X-ADDRESS=Junction 27 Retail Park\, B
 irstall\, Batley\, United Kingdom;X-APPLE-RADIUS=100;X-TITLE=Junction 27:g
 eo:53.745615,-1.645739
END:VEVENT
END:VCALENDAR