BEGIN:VCALENDAR
VERSION:2.0
PRODID:-//wp-events-plugin.com//7.2.3.1//EN
BEGIN:VEVENT
UID:1777@stpetersbirstall.co.uk
DTSTART:20251212T193000Z
DTEND:20251212T210000Z
DTSTAMP:20251117T213923Z
URL:https://stpetersbirstall.co.uk/events/beer-carols-2025/
SUMMARY:Beer & Carols
DESCRIPTION:We are very excited to announce we will be holding Beer &amp\; 
 Carols again this year at the Black Bull (on Kirkgate\, next to the church
 ) on Friday 12th December. Join us from 7:30PM to sing carols - traditiona
 l words\, but definitely not traditional music! - and other festive songs.
  The pub will provide the beer (other drinks\, including soft drinks\, are
  available)\, we'll provide the music - you provide the choir!\n\n
CATEGORIES:Christmas,Community
LOCATION:Black Bull Pub\, Kirkgate\, Birstall\, Batley\, United Kingdom
GEO:53.731349;-1.671102
X-APPLE-STRUCTURED-LOCATION;VALUE=URI;X-ADDRESS=Kirkgate\, Birstall\, Batle
 y\, United Kingdom;X-APPLE-RADIUS=100;X-TITLE=Black Bull Pub:geo:53.731349
 ,-1.671102
END:VEVENT
END:VCALENDAR