BEGIN:VCALENDAR
VERSION:2.0
PRODID:-//wp-events-plugin.com//7.2.3.1//EN
BEGIN:VEVENT
UID:1771@stpetersbirstall.co.uk
DTSTART:20251102T190000Z
DTEND:20251102T200000Z
DTSTAMP:20251004T170534Z
URL:https://stpetersbirstall.co.uk/events/all-souls-2025/
SUMMARY:All Souls Service
DESCRIPTION:Join us for our annual All Souls service. Every year we hold th
 is special service\, when anyone who wants to remember someone they love w
 ho has died can come to light a candle and say special prayers.
CATEGORIES:Traditional
LOCATION:St Peters Church\, Birstall\, Kirkgate\, Birstall\, Batley\, West 
 Yorkshire\, WF17 9PB\, United Kingdom
GEO:53.731175;-1.670661
X-APPLE-STRUCTURED-LOCATION;VALUE=URI;X-ADDRESS=Kirkgate\, Birstall\, Batle
 y\, West Yorkshire\, WF17 9PB\, United Kingdom;X-APPLE-RADIUS=100;X-TITLE=
 St Peters Church\, Birstall:geo:53.731175,-1.670661
END:VEVENT
END:VCALENDAR